BEGIN:VCALENDAR
VERSION:2.0
PRODID:-//Barry Spanger - ECPv4.7.3//NONSGML v1.0//EN
CALSCALE:GREGORIAN
METHOD:PUBLISH
X-WR-CALNAME:Barry Spanger
X-ORIGINAL-URL:https://www.barryspanger.com.au
X-WR-CALDESC:Events for Barry Spanger
BEGIN:VEVENT
DTSTART;VALUE=DATE:20190714
DTEND;VALUE=DATE:20190728
DTSTAMP:20210227T065757
CREATED:20160310T123550Z
LAST-MODIFIED:20180504T092836Z
UID:176-1563062400-1564271999@www.barryspanger.com.au
SUMMARY:Vivamus convallis tellus et tincidunt commodo
DESCRIPTION:Fusce ligula arcu\, aliquet non volutpat id\, fringilla vel massa. Phasellus tristique efficitur laoreet. Donec suscipit metus ac rutrum luctus. Quisque non tincidunt massa. Sed lacus lorem\, rhoncus ut blandit non\, facilisis ac odio. Ut id lacinia ligula. Vivamus convallis tellus et tincidunt commodo. Quisque id porttitor lectus\, eu pulvinar tortor. In lacinia\, ex id mattis accumsan\, erat nunc auctor turpis\, id pulvinar arcu elit et erat. Duis finibus tempor mollis. Nulla dictum tortor et ligula gravida porta. \nDuis sed diam aliquet\, fringilla diam at\, aliquet tortor. In vitae justo sed lacus lacinia condimentum. Vivamus porttitor ligula eget nulla fringilla\, id tincidunt tellus suscipit. Donec cursus ex eget magna venenatis vulputate. In rhoncus est dignissim metus tincidunt posuere. Vestibulum ante ipsum primis in faucibus orci luctus et ultrices posuere cubilia Curae; In lacinia\, nisi vel vehicula lacinia\, nunc nunc efficitur dolor\, non pharetra odio velit ac ligula. Morbi eget eleifend felis. Donec luctus\, purus nec sodales tincidunt\, nibh justo ornare lectus\, vel congue nunc dui vitae enim. Cras lorem orci\, gravida at vestibulum nec\, accumsan sit amet magna. Sed facilisis eget quam et sodales. \n
URL:https://www.barryspanger.com.au/event/vivamus-convallis-tellus-et-tincidunt-commodo/
LOCATION:The International House at UC Berkeley\,  2299 Piedmont Ave. \, San Francisco\, CA 94720\, United States
CATEGORIES:Coaching
ATTACH;FMTTYPE=image/jpeg:https://www.barryspanger.com.au/wp-content/uploads/2016/02/09.jpg
END:VEVENT
END:VCALENDAR